BEGIN:VCALENDAR
VERSION:2.0
PRODID:-//eventon.com NONSGML v1.0//EN
BEGIN:VEVENT
UID:69e77c5b3fcaf
DTSTAMP:20260421T133211
DTSTART:20190720
DTEND:20190720
TZID:UTC
LOCATION:
SUMMARY:International Festival and Potluck
DESCRIPTION: This event is on a Saturday. Hours are TBT.\nhttps://montessoriofalameda.com/events/international-festival-and-potluck-2/
URL:https://montessoriofalameda.com/events/international-festival-and-potluck-2/
END:VEVENT
END:VCALENDAR