BEGIN:VCALENDAR
VERSION:2.0
PRODID:-//eventon.com NONSGML v1.0//EN
BEGIN:VEVENT
UID:69e7aac04b98f
DTSTAMP:20260421T165008
DTSTART:20190701
DTEND:20190705
TZID:UTC
LOCATION:
SUMMARY:Summer Break Week - School Closed
DESCRIPTION: Summer Break Week - School Closed\nhttps://montessoriofalameda.com/events/summer-break-week-school-closed/
URL:https://montessoriofalameda.com/events/summer-break-week-school-closed/
END:VEVENT
END:VCALENDAR