BEGIN:VCALENDAR
VERSION:2.0
PRODID:-//eventon.com NONSGML v1.0//EN
BEGIN:VEVENT
UID:69e7eeb0979b7
DTSTAMP:20260421T214000
DTSTART:20190527
DTEND:20190527
TZID:UTC
LOCATION:
SUMMARY:Memorial Day - School Closed
DESCRIPTION: Memorial Day - School Closed\nhttps://montessoriofalameda.com/events/memorial-day-school-closed/
URL:https://montessoriofalameda.com/events/memorial-day-school-closed/
END:VEVENT
END:VCALENDAR